BEGIN:VCALENDAR
VERSION:2.0
PRODID:-//Z-Wave Alliance - ECPv6.15.20//NONSGML v1.0//EN
CALSCALE:GREGORIAN
METHOD:PUBLISH
X-WR-CALNAME:Z-Wave Alliance
X-ORIGINAL-URL:https://z-wavealliance.org
X-WR-CALDESC:Events for Z-Wave Alliance
REFRESH-INTERVAL;VALUE=DURATION:PT1H
X-Robots-Tag:noindex
X-PUBLISHED-TTL:PT1H
BEGIN:VTIMEZONE
TZID:UTC
BEGIN:STANDARD
TZOFFSETFROM:+0000
TZOFFSETTO:+0000
TZNAME:UTC
DTSTART:20230101T000000
END:STANDARD
END:VTIMEZONE
BEGIN:VEVENT
DTSTART;VALUE=DATE:20240430
DTEND;VALUE=DATE:20240503
DTSTAMP:20260422T092642
CREATED:20231215T220736Z
LAST-MODIFIED:20240523T184423Z
UID:6328-1714435200-1714694399@z-wavealliance.org
SUMMARY:Z-Wave Alliance Summit & Unplug Fest 2024
DESCRIPTION:Thank you to all of our Z-Wave members\, speakers\, and sponsors for participating in the Z-Wave Summit & Unplugfest 2024. \nZ-Wave Summit 2024 was held April 30 – May 2\, 2024 in Austin\, TX at the Austin Marriott Downtown. Check out the agenda. \n\nThe Unplug Fest is where members can engage in unofficial device-to-device interoperability for Z-Wave and Z-Wave Long Range products. Take advantage of an invaluable opportunity to collaborate\, exchange knowledge\, and uncover new possibilities for seamless integration with the Z-Wave ecosystem.\nKeynote\, Technical & Marketing Tracks. As always\, the Z-Wave Summit is the perfect venue to learn valuable industry insights and market intelligence. Relevant keynotes\, panels\, and dedicated technical and marketing tracks\, along with joint sessions to provide opportunities to learn and share knowledge. The agenda is coming soon!\nNetwork and engage. There is no better place than the Z-Wave Summit to engage and network with your fellow industry colleagues. Whether it is at the welcome reception\, evening networking event\, between sessions\, or around the lunch table the opportunities are endless.\n2024 knowledge at 2023 prices. You heard us right! We are conscious of the current macroeconomic environment. This is why we are keeping Z-Wave Summit registration pricing and including Unplug Fest at the same prices as last year. Special hotel accommodation room block pricing will be provided with the registration invitation coming soon.\nShow your product\, service\, or solution. The Z-Wave Summit is the perfect opportunity to demonstrate and share your product\, solutions\, and services with a targeted and engaged audience.\n\nStay tuned for details on our next event! \n  \n \n  \n  \n 
URL:https://z-wavealliance.org/eve/z-wave-summit-member-meeting-unplug-fest-2024/
LOCATION:Austin\, TX\, Austin Marriott Downtown 304 E Cesar Chavez St\, Austin\, Texas\, 78701
CATEGORIES:Z-Wave Member Only
ATTACH;FMTTYPE=image/png:https://z-wavealliance.org/wp-content/uploads/2023/12/Z-Wave-Member-Summit-Event-Listing.png
ORGANIZER;CN="Z-Wave Alliance":MAILTO:administration@z-wavealliance.org
END:VEVENT
END:VCALENDAR