BEGIN:VCALENDAR
VERSION:2.0
PRODID:-//Z-Wave Alliance - ECPv6.15.20//NONSGML v1.0//EN
CALSCALE:GREGORIAN
METHOD:PUBLISH
X-ORIGINAL-URL:https://z-wavealliance.org
X-WR-CALDESC:Events for Z-Wave Alliance
REFRESH-INTERVAL;VALUE=DURATION:PT1H
X-Robots-Tag:noindex
X-PUBLISHED-TTL:PT1H
BEGIN:VTIMEZONE
TZID:America/Los_Angeles
BEGIN:DAYLIGHT
TZOFFSETFROM:-0800
TZOFFSETTO:-0700
TZNAME:PDT
DTSTART:20230312T100000
END:DAYLIGHT
BEGIN:STANDARD
TZOFFSETFROM:-0700
TZOFFSETTO:-0800
TZNAME:PST
DTSTART:20231105T090000
END:STANDARD
BEGIN:DAYLIGHT
TZOFFSETFROM:-0800
TZOFFSETTO:-0700
TZNAME:PDT
DTSTART:20240310T100000
END:DAYLIGHT
BEGIN:STANDARD
TZOFFSETFROM:-0700
TZOFFSETTO:-0800
TZNAME:PST
DTSTART:20241103T090000
END:STANDARD
BEGIN:DAYLIGHT
TZOFFSETFROM:-0800
TZOFFSETTO:-0700
TZNAME:PDT
DTSTART:20250309T100000
END:DAYLIGHT
BEGIN:STANDARD
TZOFFSETFROM:-0700
TZOFFSETTO:-0800
TZNAME:PST
DTSTART:20251102T090000
END:STANDARD
END:VTIMEZONE
BEGIN:VEVENT
DTSTART;VALUE=DATE:20240109
DTEND;VALUE=DATE:20240113
DTSTAMP:20260422T144609
CREATED:20231013T164112Z
LAST-MODIFIED:20240110T004155Z
UID:6224-1704758400-1705103999@z-wavealliance.org
SUMMARY:CES 2024
DESCRIPTION:Come visit the Z-Wave Alliance Suite #32-139 in the Venetian Tower at CES® 2024\, happening January 9-12\, in Las Vegas. \nZ-Wave Alliance CES 2024 Suite\nVenetian/Palazzo Hospitality Suites\, Venetian Tower\nSuite #32-139 (32nd Floor) \nThe suite can be accessed via the elevators (circled in the image below) located just off the Venetian Expo show floor. \n \nRegister now.
URL:https://z-wavealliance.org/eve/ces-2024/
CATEGORIES:Industry Event
ATTACH;FMTTYPE=image/png:https://z-wavealliance.org/wp-content/uploads/2023/10/CES-2024-400x333-1.png
END:VEVENT
END:VCALENDAR