BEGIN:VCALENDAR
VERSION:2.0
PRODID:-//Z-Wave Alliance - ECPv6.15.20//NONSGML v1.0//EN
CALSCALE:GREGORIAN
METHOD:PUBLISH
X-ORIGINAL-URL:https://z-wavealliance.org
X-WR-CALDESC:Events for Z-Wave Alliance
REFRESH-INTERVAL;VALUE=DURATION:PT1H
X-Robots-Tag:noindex
X-PUBLISHED-TTL:PT1H
BEGIN:VTIMEZONE
TZID:UTC
BEGIN:STANDARD
TZOFFSETFROM:+0000
TZOFFSETTO:+0000
TZNAME:UTC
DTSTART:20240101T000000
END:STANDARD
END:VTIMEZONE
BEGIN:VEVENT
DTSTART;VALUE=DATE:20250508
DTEND;VALUE=DATE:20250511
DTSTAMP:20260423T112404
CREATED:20250122T214115Z
LAST-MODIFIED:20250220T154931Z
UID:6888-1746662400-1746921599@z-wavealliance.org
SUMMARY:Smart Home Expo 2025
DESCRIPTION:Step into the future at the Smart Home Expo\, the pinnacle event for smart home enthusiasts and professionals. The 6th edition in Mumbai is set to take place from May 8th to 10th\, 2025\, at the prestigious Jio World Convention Centre. \nWhy attend? Imagine over 400+ top-tier brands converging to showcase the latest in smart home technology\, from innovative home and building automation systems to cutting-edge audio-visual solutions\, smart lighting\, and next-gen consumer electronics. Witness firsthand the revolutionary advancements that are transforming our living spaces into intelligent\, seamless environments. \nDon’t miss your chance to explore\, engage\, and be inspired by the forefront of smart home innovation. Mark your calendars and be part of the Smart Home Expo experience – where technology meets lifestyle. \nRegister here. 
URL:https://z-wavealliance.org/eve/smart-home-expo-2025/
LOCATION:Jio World Convention Centre\, Bandra Kurla Complex\, Bandra East\, \, Mumbai\, Maharashtra\, 400098\, India
CATEGORIES:Industry Event
ATTACH;FMTTYPE=image/gif:https://z-wavealliance.org/wp-content/uploads/2025/01/Z-WAVE-1.gif
END:VEVENT
BEGIN:VEVENT
DTSTART;VALUE=DATE:20250513
DTEND;VALUE=DATE:20250516
DTSTAMP:20260423T112404
CREATED:20250224T200657Z
LAST-MODIFIED:20250502T202120Z
UID:6984-1747094400-1747353599@z-wavealliance.org
SUMMARY:Z-Wave Alliance at Parks CONNECTIONS Summit 2025
DESCRIPTION:The Z-Wave Alliance will have a table at the Parks CONNECTIONS Summit 2025 from May 13-15\, 2025 at the Renaissance Dallas at Plano Legacy West Hotel. We look forward to connecting with members at the event. If you’re interested in getting involved\, please reach out to Jen Ferency at jenf@z-wavealliance.org. \nRegister HERE. \n  \nSee the full agenda and add the following sessions featuring Z-Wave Alliance members to your schedule: \n  \nTuesday\, May 13\, 2025 \n10:00 AM CT: Interoperability Panel with Avi Rosenthal\, Z-Wave Alliance Chair of the Board\, and Gilles Drieu\, ADT \n11:00 AM CT: Revolutionizing Access Control: A Defining Year Panel with Brad Cook\, Alfred International\, and Tim Eskew\, Schlage \n3:00 PM CT: AI Meets the Smart Home Panel with Paul Williams\, Nice\, and Ben Berg\, Alarm.com \n4:15 PM CT: Marketing Smart Home Services to the Consumer Panel with Charlie Dougherty\, Kwikset and Greg Rhoades\, Leviton Manufacturing \n  \nWednesday\, May 14\, 2025 \n\n9:00 AM CT: Innovations in Safety\, Security\, and Monitoring Panel with Carie Small\, ADT \n\n9:45 AM CT: Smart Home Services: A Deeper Dive Panel with Gene LaNois\, Vivint \n\n1:15 PM CT: AI & Data Security: The New Consumer Trust Panel with Sharon Hagi\, Silicon Labs \n\n1:45 PM CT: Smart Home Automation in Action: Energy and Water Management Panel with Victor Carrasco\, Johnson Controls \n\n3:45 PM CT: Eco–Tech: Building Sustainability into Daily Living Panel with Svetlin Todorov\, Shelly \n\n5:00 PM CT: Keynote: Empowering Your Home with Smart Energy Solutions with Dave Porter\, Vivint \n\n\n\n\n\n\n  \nThursday\, May 15\, 2025 \n\n8:45 AM CT: Value-Added Services: Broadband and the Smart Home Panel with Dave Mayne\, M2M Services\, and Patrick Serrato\, XThings \n\n 
URL:https://z-wavealliance.org/eve/connections-summit-2025/
LOCATION:Renaissance Dallas at Plano Legacy West Hotel\, 6007 Legacy Dr\, Plano\, TX\, 75024\, United States
CATEGORIES:Industry Event
ATTACH;FMTTYPE=image/png:https://z-wavealliance.org/wp-content/uploads/2025/02/Z-Wave-CONNECTIONS-2025.png
END:VEVENT
END:VCALENDAR