BEGIN:VCALENDAR
VERSION:2.0
PRODID:-//Z-Wave Alliance - ECPv6.15.20//NONSGML v1.0//EN
CALSCALE:GREGORIAN
METHOD:PUBLISH
X-WR-CALNAME:Z-Wave Alliance
X-ORIGINAL-URL:https://z-wavealliance.org
X-WR-CALDESC:Events for Z-Wave Alliance
REFRESH-INTERVAL;VALUE=DURATION:PT1H
X-Robots-Tag:noindex
X-PUBLISHED-TTL:PT1H
BEGIN:VTIMEZONE
TZID:UTC
BEGIN:STANDARD
TZOFFSETFROM:+0000
TZOFFSETTO:+0000
TZNAME:UTC
DTSTART:20210101T000000
END:STANDARD
END:VTIMEZONE
BEGIN:VEVENT
DTSTART;VALUE=DATE:20220929
DTEND;VALUE=DATE:20221002
DTSTAMP:20260422T082316
CREATED:20220823T182145Z
LAST-MODIFIED:20221011T223047Z
UID:3517-1664409600-1664668799@z-wavealliance.org
SUMMARY:CEDIA 2022
DESCRIPTION:Z-Wave Pavilion @ CEDIA 2022\nThe Z-Wave Alliance was excited to return to the CEDIA tradeshow floor with a Z-Wave Pavilion and demonstrate why Z-Wave is the trusted choice for the smart home and security markets! \nIn case you missed it\, you can still check out the Alliance members and products on display\, representing the world’ largest ecosystem of over 4\,000 wireless control products. \nScroll below learn more about the Alliance member participants’ Z-Wave smart home products and services. \nPress Releases \nZ-Wave Alliance: Smart Home Solutions Showcased by Z-Wave Alliance at CEDIA Expo \nMember Releases: \n\nSmartest House and Zooz will announce launch of Z-Box Hub and 800 series Z-Wave devices at 2022 CEDIA\nYale Home Launches Yale Assure Lock® 2\, Reimagined Smart Lock Collection with More Smart Capabilities and a Fresh Aesthetic\nRemotec Announces to Launch of Its Z-Wave 800 Chip Based Products\nIntroducing Silicon Labs’ New Z-Wave 800 Dev Kit for Easy Smart Home IoT Application Development\nAlfred and Wi-Charge Deliver the First Wirelessly-Charged Smart Locks\nMasonite Announces Five New M-Pwr™ Smart Doors Home Builder Partners
URL:https://z-wavealliance.org/eve/cedia-2022/
CATEGORIES:Z-Wave Pavilion
ATTACH;FMTTYPE=image/png:https://z-wavealliance.org/wp-content/uploads/2022/08/Cedia-Thumb-2.png
END:VEVENT
BEGIN:VEVENT
DTSTART;VALUE=DATE:20220913
DTEND;VALUE=DATE:20220916
DTSTAMP:20260422T082316
CREATED:20220831T192512Z
LAST-MODIFIED:20220901T095309Z
UID:3726-1663027200-1663286399@z-wavealliance.org
SUMMARY:Works With 2022
DESCRIPTION:Don’t miss the industry’s leading developer’s conference.  Click HERE to register for free.
URL:https://z-wavealliance.org/eve/works-with-2022/
CATEGORIES:Virtual Industry Event
ATTACH;FMTTYPE=image/png:https://z-wavealliance.org/wp-content/uploads/2022/08/Works-with-2022-thumbnail.png
END:VEVENT
END:VCALENDAR