BEGIN:VCALENDAR
VERSION:2.0
PRODID:-//Z-Wave Alliance - ECPv6.15.20//NONSGML v1.0//EN
CALSCALE:GREGORIAN
METHOD:PUBLISH
X-WR-CALNAME:Z-Wave Alliance
X-ORIGINAL-URL:https://z-wavealliance.org
X-WR-CALDESC:Events for Z-Wave Alliance
REFRESH-INTERVAL;VALUE=DURATION:PT1H
X-Robots-Tag:noindex
X-PUBLISHED-TTL:PT1H
BEGIN:VTIMEZONE
TZID:UTC
BEGIN:STANDARD
TZOFFSETFROM:+0000
TZOFFSETTO:+0000
TZNAME:UTC
DTSTART:20240101T000000
END:STANDARD
END:VTIMEZONE
BEGIN:VEVENT
DTSTART;VALUE=DATE:20250107
DTEND;VALUE=DATE:20250111
DTSTAMP:20260422T173459
CREATED:20240322T193823Z
LAST-MODIFIED:20241212T163219Z
UID:6516-1736208000-1736553599@z-wavealliance.org
SUMMARY:Z-Wave Alliance @ CES 2025
DESCRIPTION:Come visit the Z-Wave Alliance Titian Ballroom 2202 at CES® 2025\, the largest and most powerful tech event in the world\, taking place January 7-10\, 2025\, in Las Vegas\, NV. Check out the new Z-Wave products that our participating members are showcasing each day and participate in the Z-Wave conversation at the Fireside Chats & Happy Hours hosted by ADT and Silicon Labs starting at 4:00 PM on January 7th and January 8th. Register for a fireside chat HERE. \n     \n  \nThe following Z-Wave Alliance members are exhibiting in the Z-Wave Alliance Titian Ballroom 2202: \n   \n  \n \n  \nZ-Wave Alliance members can schedule meetings at the ballroom throughout the day with media and potential partners and stop by at any time during the show to grab a coffee and network with other Alliance members and board members. Contact Jen Ferency at jenf@z-wavealliance.org if you have any questions about the Z-Wave Alliance at CES 2025. \n 
URL:https://z-wavealliance.org/eve/z-wave-alliance-ces-2025-2/
CATEGORIES:Industry Event
ATTACH;FMTTYPE=image/png:https://z-wavealliance.org/wp-content/uploads/2024/03/Z-Wave-Summit-Austin.png
END:VEVENT
END:VCALENDAR