BEGIN:VCALENDAR
VERSION:2.0
PRODID:-//Z-Wave Alliance - ECPv6.15.20//NONSGML v1.0//EN
CALSCALE:GREGORIAN
METHOD:PUBLISH
X-WR-CALNAME:Z-Wave Alliance
X-ORIGINAL-URL:https://z-wavealliance.org
X-WR-CALDESC:Events for Z-Wave Alliance
REFRESH-INTERVAL;VALUE=DURATION:PT1H
X-Robots-Tag:noindex
X-PUBLISHED-TTL:PT1H
BEGIN:VTIMEZONE
TZID:UTC
BEGIN:STANDARD
TZOFFSETFROM:+0000
TZOFFSETTO:+0000
TZNAME:UTC
DTSTART:20250101T000000
END:STANDARD
END:VTIMEZONE
BEGIN:VEVENT
DTSTART;VALUE=DATE:20260203
DTEND;VALUE=DATE:20260207
DTSTAMP:20260421T175810
CREATED:20251031T204510Z
LAST-MODIFIED:20251031T211445Z
UID:7570-1770076800-1770422399@z-wavealliance.org
SUMMARY:Integrated Systems Europe (ISE) 2026
DESCRIPTION:The world-renowned annual tech show for the systems integration and audiovisual industry is back. Time for virtually impossible experiences\, to discover where show meets business\, to uncover tomorrow’s tech today and develop your own knowledge. Be inspired\, reconnect with each other and drive things forward. Register for ISE 2026 for free using code: zwavealliance.
URL:https://z-wavealliance.org/eve/integrated-systems-europe-ise-2025-2/
LOCATION:NV
CATEGORIES:Industry Event
ATTACH;FMTTYPE=image/gif:https://z-wavealliance.org/wp-content/uploads/2025/10/Z-Wave-Smart-Home-2-720-x-600.gif
END:VEVENT
END:VCALENDAR