BEGIN:VCALENDAR
VERSION:2.0
PRODID:-//Z-Wave Alliance - ECPv6.15.20//NONSGML v1.0//EN
CALSCALE:GREGORIAN
METHOD:PUBLISH
X-WR-CALNAME:Z-Wave Alliance
X-ORIGINAL-URL:https://z-wavealliance.org
X-WR-CALDESC:Events for Z-Wave Alliance
REFRESH-INTERVAL;VALUE=DURATION:PT1H
X-Robots-Tag:noindex
X-PUBLISHED-TTL:PT1H
BEGIN:VTIMEZONE
TZID:UTC
BEGIN:STANDARD
TZOFFSETFROM:+0000
TZOFFSETTO:+0000
TZNAME:UTC
DTSTART:20250101T000000
END:STANDARD
END:VTIMEZONE
BEGIN:VEVENT
DTSTART;VALUE=DATE:20260505
DTEND;VALUE=DATE:20260508
DTSTAMP:20260425T133957
CREATED:20260421T224140Z
LAST-MODIFIED:20260421T224140Z
UID:7858-1777939200-1778198399@z-wavealliance.org
SUMMARY:CONNECTIONS
DESCRIPTION:  \nCONNECTIONS™: The Premier Connected Home Conference brings together industry leaders to provide insights about the adoption of technology\, including broadband\, smart home\, security\, connected health\, energy\, and home automation. \nParks Associates will host the 30th annual CONNECTIONS™ on May 5-7\, at the Hyatt Regency Santa Clara. \n  \nSpecial Discount for Z-Wave Alliance Members!\nThe Z-Wave Alliance is a proud EVENT SPONSOR of CONNECTIONS™.  Members use the promo code 2026PACONN30 to receive 30% off a Conference pass ($1050) OR Conference and Workshop pass combo ($1400). \n  \nCLICK HERE TO REGISTER FOR CONNECTIONS™\n 
URL:https://z-wavealliance.org/eve/connections-2/
LOCATION:Hyatt Regency Santa Clara\, 5101 Great America Parkway\, Santa Clara\, 95054\, United States
CATEGORIES:Industry Event
ATTACH;FMTTYPE=image/png:https://z-wavealliance.org/wp-content/uploads/2026/04/Join-the-Z-Wave-Alliance-at-Connections-Ma.png
END:VEVENT
END:VCALENDAR