BEGIN:VCALENDAR
VERSION:2.0
PRODID:-//Z-Wave Alliance - ECPv6.15.20//NONSGML v1.0//EN
CALSCALE:GREGORIAN
METHOD:PUBLISH
X-ORIGINAL-URL:https://z-wavealliance.org
X-WR-CALDESC:Events for Z-Wave Alliance
REFRESH-INTERVAL;VALUE=DURATION:PT1H
X-Robots-Tag:noindex
X-PUBLISHED-TTL:PT1H
BEGIN:VTIMEZONE
TZID:UTC
BEGIN:STANDARD
TZOFFSETFROM:+0000
TZOFFSETTO:+0000
TZNAME:UTC
DTSTART:20250101T000000
END:STANDARD
END:VTIMEZONE
BEGIN:VEVENT
DTSTART;TZID=UTC:20260310T180000
DTEND;TZID=UTC:20260310T203000
DTSTAMP:20260421T135323
CREATED:20260205T052642Z
LAST-MODIFIED:20260205T053351Z
UID:7711-1773165600-1773174600@z-wavealliance.org
SUMMARY:Z-Wave Networking and Happy Hour @ Light + Building 2026
DESCRIPTION:  \nJoin the Z-Wave Alliance for a relaxed networking event bringing together installers\, dealers\, and device manufacturers from across the smart home ecosystem. Enjoy beer\, wine\, and light appetizers while connecting with peers\, building new relationships\, and learning what’s next for Z-Wave. Located directly across for the Messe Frankfurt\, this event is a fun and professionally rewarding way to wrap up your day at Light + Building. \nWe look forward to seeing you there! \nREGISTER NOW\n\n  \n\nSponsorship Opportunity\nInterested in showcasing your products and services at this event?  Reach out to mary@z-wavealliance.org to request a sponsorship prospectus.
URL:https://z-wavealliance.org/eve/z-wave-alliance-networking-happy-hour-lightbuilding-2026/
LOCATION:Frankfurt Marriott\, Hamburger Alle 2\, Frankfurt\, 60486\, Germany
CATEGORIES:Industry Event
ATTACH;FMTTYPE=image/png:https://z-wavealliance.org/wp-content/uploads/2026/02/Happy-Hour-Networking-Event_Website-R2.png
END:VEVENT
BEGIN:VEVENT
DTSTART;TZID=UTC:20260325T170000
DTEND;TZID=UTC:20260325T190000
DTSTAMP:20260421T135323
CREATED:20260209T190006Z
LAST-MODIFIED:20260313T212518Z
UID:7719-1774458000-1774465200@z-wavealliance.org
SUMMARY:Z-Wave Networking & Happy Hour @ ISC West 2026
DESCRIPTION:Join us as we bring together the pioneers and leaders who had the foresight to embrace Z-Wave early and toast a technology that has stood the test of time at ISC West 2026! \nFor 15 years\, Z-Wave has helped transform monitored security into a true smart-home platform. Early adopters saw that extending security systems with home control would drive engagement\, stickiness\, and long-term customer value. As other technologies cycled in and out\, Z-Wave endured—scaling globally while delivering the security\, interoperability\, and reliability the monitored security business depends on. \nNetwork with fellow security executives\, dealers\, and industry leaders while enjoying a special Z-Wave anniversary cocktail and taco bar. \nWe look forward to celebrating with you!\n\nREGISTER NOW\n\n\nThank You Sponsors!\n  \nCRYSTAL SPONSOR \n\n  \nGOLD SPONSORS \n  \n                              \nSponsorship Opportunity\nInterested in showcasing your products and services at this event?  Reach out to mary@z-wavealliance.org to request a sponsorship prospectus.
URL:https://z-wavealliance.org/eve/z-wave-networking-happy-hour-isc-west-2026/
LOCATION:Cañonita Mexican Restaurant The Palazzo Las Vegas\, 3377 S Las Vegas Blvd.\, Las Vegas\, NV\, 89109\, United States
CATEGORIES:Industry Event
ATTACH;FMTTYPE=image/png:https://z-wavealliance.org/wp-content/uploads/2026/02/ISC-web_Celebrating-15-Years.png
END:VEVENT
END:VCALENDAR