BEGIN:VCALENDAR
VERSION:2.0
PRODID:-//Z-Wave Alliance - ECPv6.15.20//NONSGML v1.0//EN
CALSCALE:GREGORIAN
METHOD:PUBLISH
X-WR-CALNAME:Z-Wave Alliance
X-ORIGINAL-URL:https://z-wavealliance.org
X-WR-CALDESC:Events for Z-Wave Alliance
REFRESH-INTERVAL;VALUE=DURATION:PT1H
X-Robots-Tag:noindex
X-PUBLISHED-TTL:PT1H
BEGIN:VTIMEZONE
TZID:UTC
BEGIN:STANDARD
TZOFFSETFROM:+0000
TZOFFSETTO:+0000
TZNAME:UTC
DTSTART:20250101T000000
END:STANDARD
END:VTIMEZONE
BEGIN:VTIMEZONE
TZID:America/Los_Angeles
BEGIN:DAYLIGHT
TZOFFSETFROM:-0800
TZOFFSETTO:-0700
TZNAME:PDT
DTSTART:20250309T100000
END:DAYLIGHT
BEGIN:STANDARD
TZOFFSETFROM:-0700
TZOFFSETTO:-0800
TZNAME:PST
DTSTART:20251102T090000
END:STANDARD
BEGIN:DAYLIGHT
TZOFFSETFROM:-0800
TZOFFSETTO:-0700
TZNAME:PDT
DTSTART:20260308T100000
END:DAYLIGHT
BEGIN:STANDARD
TZOFFSETFROM:-0700
TZOFFSETTO:-0800
TZNAME:PST
DTSTART:20261101T090000
END:STANDARD
BEGIN:DAYLIGHT
TZOFFSETFROM:-0800
TZOFFSETTO:-0700
TZNAME:PDT
DTSTART:20270314T100000
END:DAYLIGHT
BEGIN:STANDARD
TZOFFSETFROM:-0700
TZOFFSETTO:-0800
TZNAME:PST
DTSTART:20271107T090000
END:STANDARD
END:VTIMEZONE
BEGIN:VEVENT
DTSTART;VALUE=DATE:20260106
DTEND;VALUE=DATE:20260110
DTSTAMP:20260421T163612
CREATED:20251022T130009Z
LAST-MODIFIED:20251216T180614Z
UID:6657-1767657600-1768003199@z-wavealliance.org
SUMMARY:Z-Wave Alliance @ CES 2026
DESCRIPTION:Discover the Power of Z-Wave at CES® 2026\nVisit the Z-Wave Alliance in Titian Ballroom 2205\, January 6-9 in Las Vegas for CES 2026\, the largest and most powerful tech event in the world. Explore the latest Z-Wave products from participating members and join in on the conversation during our Fireside Chat Series hosted by the Z-Wave Alliance and ADT at 4 PM PT on January 6 and January 7. \nFireside Chat Series Returns for CES 2026\nDesigned to inspire\, inform\, and ignite conversations surrounding Z-Wave\, the Alliance is proud to announce the return of the Fireside Chat Series for CES 2026. These sessions bring together industry leaders to explore the state of Z-Wave technology\, emerging market opportunities\, and discuss what’s next for the connected home. \nEach session features a unique presentation and open discussion\, followed by a cocktail reception and networking hour where attendees can connect with peers\, partners\, and innovators across the smart home ecosystem. \nAll Fireside Chats will take place in the Z-Wave Alliance Ballroom – Titian 2205\, Venetian Palazzo. Doors will open at 4:00 PM PT with presentations starting promptly at 4:15 PM PT. Advanced registration is required\, attendance will be capped and available on a first-come\, first-served basis.    \nThe Fireside Chat Series Schedule is as follows: \n\n1/6/26 – Dominating Smart Locks with the Z-Wave User Credential Command Class\n1/7/26 – The Responsive Home: Next-Gen Sensors\, Open Standards\, and the Future of Intelligent Security\n\n \nZ-Wave Solutions on Display at CES 2026 \nThe following Z-Wave Alliance members are slated to exhibit in the Z-Wave Alliance Titian Ballroom 2205 at CES 2026:\n																														 \nZ-Wave Alliance members can schedule meetings at the ballroom throughout the day with media and potential partners and stop by at any time during the show to grab a coffee and network with other Alliance members and board members. \nFor CES 2026 event logistics\, contact Ben Rosenthal. If you have any questions about CES 2026 sponsorship opportunities contact Mary Miller.
URL:https://z-wavealliance.org/eve/z-wave-alliance-ces-2026/
LOCATION:Venetian Expo\, Las Vegas\, 201 Sands Ave\, Las Vegas\, NV\, 89169\, United States
CATEGORIES:Industry Event,Z-Wave Pavilion
ATTACH;FMTTYPE=image/png:https://z-wavealliance.org/wp-content/uploads/2025/10/Event-tile-2-3.png
END:VEVENT
BEGIN:VEVENT
DTSTART;TZID=America/Los_Angeles:20260106T160000
DTEND;TZID=America/Los_Angeles:20260106T180000
DTSTAMP:20260421T163612
CREATED:20251022T130022Z
LAST-MODIFIED:20251216T153209Z
UID:7537-1767715200-1767722400@z-wavealliance.org
SUMMARY:Z-Wave Alliance @ CES 2026 - Fireside Chat #1
DESCRIPTION:Z-Wave Alliance: Dominating Smart Locks with the Z-Wave User Credential Command Class \nJoin us for an insightful panel that explores the groundbreaking collaboration behind the industry’s first Z-Wave certified smart lock featuring the innovative User Credential Command Class (User Credential CC). Moderated by Tim Albright of AV Nation\, this session brings together key players from Alarm.com\, Yale\, ADT\, and Silicon Labs\, who will share their journey from identifying a market-driven need to developing and certifying a new standard. \nAttendees will gain a behind-the-scenes look into how competing industry leaders collaborated effectively to enhance the Z-Wave ecosystem. The discussion will address the process of proposing and creating a new command class\, navigating intellectual property considerations\, and ensuring smooth certification. Panelists will also reflect on how this collaborative effort translated into a successful product launch and discuss how companies without immediate use cases can still significantly benefit from participating in technical working groups. \nThis session is essential for those interested in influencing future Z-Wave developments and leveraging collaborative innovation for broader market success. \n\nSession moderator: Tim Albright\, AV Nation\nSession speakers will include representatives from:\n\nTai Nguyen\, ADT\nAbe Kinney\, Alarm.com\nJohn Bartucci\, Fortune Brands\nMark Umina\, Silicon Labs\n\n\n\nAll Fireside Chats will take place in the Z-Wave Alliance Ballroom – Titian 2205\, Venetian Palazzo. Doors will open at 4:00 PM PT with presentations starting promptly at 4:15 PM PT. Join us for a cocktail reception and networking hour immediately following each session. Advanced registration is required\, attendance will be capped and available on a first-come\, first-served basis. \n \nZ-Wave Alliance at CES 2026\nFor more information on what is happening in the Z-Wave Alliance ballroom during CES 2026\, click here. \nZ-Wave Alliance members can schedule meetings at the ballroom throughout the day with media and potential partners and stop by at any time during the show to grab a coffee and network with other Alliance members and board members. \nFor CES 2026 event logistics\, contact Ben Rosenthal. If you have any questions about CES 2026 sponsorship opportunities contact Mary Miller.
URL:https://z-wavealliance.org/eve/z-wave-alliance-ces-2026-2/
LOCATION:Venetian Expo\, Las Vegas\, 201 Sands Ave\, Las Vegas\, NV\, 89169\, United States
CATEGORIES:Industry Event,Z-Wave Pavilion
ATTACH;FMTTYPE=image/png:https://z-wavealliance.org/wp-content/uploads/2025/10/Fireside-1-4.png
ORGANIZER;CN="Z-Wave Alliance":MAILTO:administration@z-wavealliance.org
END:VEVENT
BEGIN:VEVENT
DTSTART;TZID=UTC:20260107T160000
DTEND;TZID=UTC:20260107T180000
DTSTAMP:20260421T163612
CREATED:20251204T161019Z
LAST-MODIFIED:20251216T170952Z
UID:7619-1767801600-1767808800@z-wavealliance.org
SUMMARY:Z-Wave Alliance @ CES 2026 - Fireside Chat #2
DESCRIPTION:The Responsive Home: Next-Gen Sensors\, Open Standards\, and the Future of Intelligent Security\nJoin ADT for an engaging fireside chat on how the next generation of smart home sensors and open standards is reshaping how homes understand and respond to the people inside them. What began with simple motion and contact sensors has expanded into a diverse ecosystem of IR\, radar\, environmental\, energy-aware\, and multi-protocol devices. At the same time\, the rapid evolution of standards like Z-Wave Long Range (ZWLR) and Matter 1.5 is unlocking a richer\, more interoperable foundation for these sensors to work together at scale. \nPanelists will explore how sensing technologies are evolving\, how traditional room and motion sensors are being reimagined\, and how sensor fusion is driving more intuitive and responsive experiences across lighting\, climate\, safety\, and security. They will also discuss how open standards are shaping the next decade of home automation\, enabling broader device ecosystems\, extending range and reliability\, and supporting advanced capabilities like presence-driven intelligence\, all while maintaining user trust and privacy. \nTogether\, the following participants will examine the state of modern sensor technology\, the role of interoperability and open standards in accelerating innovation\, and the future of sensor-driven home intelligence. \n\nSession moderator: Avi Rosenthal\, Z-Wave Alliance\nSession speakers will include:\n\nGilles Drieu\, ADT\nDaniel Wroclawski\, Consumer Reports\nEric Welander\, Content Creator\nPaulus Schoutsen\, Home Assistant\nJennifer Pattison Tuohy\, The Verge\n\n\n\n\n \n\nAll Fireside Chats will take place in the Z-Wave Alliance Ballroom – Titian 2205\, Venetian Palazzo. Doors will open at 4:00 PM PT with presentations starting promptly at 4:15 PM PT. Join us for a cocktail reception and networking hour immediately following each session. Advanced registration is required\, attendance will be capped and available on a first-come\, first-served basis. \n \nZ-Wave Alliance at CES 2026\nFor more information on what is happening in the Z-Wave Alliance ballroom during CES 2026\, click here. \nZ-Wave Alliance members can schedule meetings at the ballroom throughout the day with media and potential partners and stop by at any time during the show to grab a coffee and network with other Alliance members and board members. \nFor CES 2026 event logistics\, contact Ben Rosenthal. If you have any questions about CES 2026 sponsorship opportunities contact Mary Miller.
URL:https://z-wavealliance.org/eve/z-wave-alliance-ces-2026-3/
LOCATION:NV
CATEGORIES:Industry Event,Z-Wave Pavilion
ATTACH;FMTTYPE=image/png:https://z-wavealliance.org/wp-content/uploads/2025/12/Fireside-2-Event-Tile.png
END:VEVENT
BEGIN:VEVENT
DTSTART;VALUE=DATE:20260112
DTEND;VALUE=DATE:20260115
DTSTAMP:20260421T163612
CREATED:20251106T164735Z
LAST-MODIFIED:20251106T164735Z
UID:7577-1768176000-1768435199@z-wavealliance.org
SUMMARY:Light + Intelligent Building Middle East
DESCRIPTION:Light + Intelligent Building Middle East is the leading event for lighting and building technology\, bringing together industry leaders\, innovators\, and government bodies from around the world for three dynamic days under one roof. In its 19th edition\, engage with 450+ international exhibitors across six product sectors\, discover cutting-edge technologies and innovative solutions\, gain insights from world-class speakers at three conferences\, and sharpen your expertise through certified hands-on workshops. This is more than an event—it’s your gateway to growth\, knowledge\, and connections that matter! \nRegister to attend HERE.
URL:https://z-wavealliance.org/eve/light-intelligent-building-middle-east/
LOCATION:Dubai World Trade Centre\, Sheikh Zayed Rd\, Dubai\, United Arab Emirates
CATEGORIES:Industry Event
ATTACH;FMTTYPE=image/jpeg:https://z-wavealliance.org/wp-content/uploads/2025/11/720x6001.jpg
END:VEVENT
END:VCALENDAR